BEGIN:VCALENDAR
VERSION:2.0
PRODID:-//Plone.org//NONSGML plone.app.event//EN
X-WR-TIMEZONE:US/Pacific
BEGIN:VEVENT
SUMMARY:Aid & Big Wall Field Trip - UTW - day 2 of 2 - multiple weekends s
 cheduled\, students register for both dates on a single weekend - Upper To
 wn Wall
DTSTART;VALUE=DATE:20260517
DTEND;VALUE=DATE:20260518
DTSTAMP;VALUE=DATE-TIME:20260421T182429Z
UID:c82c04031d3b4f848cc9102b09260ab7
CATEGORIES:Climbing
DESCRIPTION:Aid & Big Wall Field Trip @ Index Upper Town Wall.\nStudent Co
 hort A - day 2 of 2.\nMultiple weekends scheduled\, students register for 
 both dates on a single we
LOCATION:Upper Town Wall
URL:https://www.mountaineers.org/locations-lodges/seattle-branch/committee
 s/seattle-climbing-committee/course-templates/advanced-climbing-courses/ai
 d-big-wall-climbing-seminar/activities/aid-big-wall-field-trip-utw-day-2-o
 f-2-multiple-weekends-scheduled-students-register-for-both-dates-on-a-sing
 le-weekend-upper-town-wall
END:VEVENT
END:VCALENDAR
