BEGIN:VCALENDAR
VERSION:2.0
PRODID:-//Plone.org//NONSGML plone.app.event//EN
X-WR-TIMEZONE:US/Pacific
BEGIN:VEVENT
SUMMARY:Aid & Big Wall Field Trip - UTW - day 2 of 2 - multiple weekends s
 cheduled\, students register for both dates on a single weekend - Upper To
 wn Wall
DTSTART;VALUE=DATE:20260531
DTEND;VALUE=DATE:20260601
DTSTAMP;VALUE=DATE-TIME:20260422T164507Z
UID:c499a94da01d4ca1aab2d6da2c01b8cd
CATEGORIES:Climbing
DESCRIPTION:Aid & Big Wall Field Trip @ Index Upper Town Wall.\nStudent Co
 hort B - day 2 of 2.\nMultiple weekends scheduled\, students register for 
 both dates on a single
LOCATION:Upper Town Wall
URL:https://www.mountaineers.org/locations-lodges/seattle-branch/committee
 s/seattle-climbing-committee/course-templates/advanced-climbing-courses/ai
 d-big-wall-climbing-seminar/activities/aid-big-wall-field-trip-utw-day-2-o
 f-2-multiple-weekends-scheduled-students-register-for-both-dates-on-a-sing
 le-weekend-upper-town-wall-1
END:VEVENT
END:VCALENDAR
