BEGIN:VCALENDAR
VERSION:2.0
PRODID:-//Plone.org//NONSGML plone.app.event//EN
X-WR-TIMEZONE:US/Pacific
BEGIN:VEVENT
SUMMARY:Aid & Big Wall Field Trip - LTW - multiple dates scheduled\, stude
 nts choose one - Lower Town Wall
DTSTART;VALUE=DATE:20260425
DTEND;VALUE=DATE:20260426
DTSTAMP;VALUE=DATE-TIME:20260421T195856Z
UID:49955c0d668349c39e0832ad0d6b2ea4
CATEGORIES:Climbing
DESCRIPTION:Aid & Big Wall Field Trip @ Index Lower Town Wall\, student Co
 hort 2.\nMultiple dates scheduled\, students choose one.
LOCATION:Lower Town Wall
URL:https://www.mountaineers.org/locations-lodges/seattle-branch/committee
 s/seattle-climbing-committee/course-templates/advanced-climbing-courses/ai
 d-big-wall-climbing-seminar/activities/aid-big-wall-field-trip-ltw-multipl
 e-dates-scheduled-students-choose-one-lower-town-wall-1
END:VEVENT
END:VCALENDAR
