BEGIN:VCALENDAR
VERSION:2.0
PRODID:-//Plone.org//NONSGML plone.app.event//EN
X-WR-TIMEZONE:US/Pacific
BEGIN:VEVENT
SUMMARY:Introduction to singletrack riding for bikepackers - Grand Ridge P
 ark (Snoqualmie)
DTSTART;VALUE=DATE:20260524
DTEND;VALUE=DATE:20260525
DTSTAMP;VALUE=DATE-TIME:20260421T042851Z
UID:51bd1bf370db417283b6b264b5be5156
CATEGORIES:Bikepacking
DESCRIPTION:An introductory clinic to learn bike handling skills on easy (
 green) singletrack trails. If there is interest\, there could be an option
 al ride on a blue trail at the end.
LOCATION:Grand Ridge Park (Snoqualmie)
URL:https://www.mountaineers.org/locations-lodges/seattle-branch/committee
 s/seattle-bikepacking-committee/seminars-clinics/introduction-to-singletra
 ck-riding-for-bikepackers-grand-ridge-park-snoqualmie-5
END:VEVENT
END:VCALENDAR
