BEGIN:VCALENDAR
VERSION:2.0
PRODID:-//Plone.org//NONSGML plone.app.event//EN
X-WR-TIMEZONE:US/Pacific
BEGIN:VEVENT
SUMMARY:Olympia Mountaineers Used Gear Sale
DTSTART;VALUE=DATE-TIME:20170221T183000
DTEND;VALUE=DATE-TIME:20170221T203000
DTSTAMP;VALUE=DATE-TIME:20260425T092602Z
UID:96c23b0ede8d454db8616eaacace4c05@localhost:6081
CREATED;VALUE=DATE-TIME:20170202T231421Z
DESCRIPTION:Olympia Mountaineers & Olympia Gear Exchange invite you to the
 ir used gear sale.  You will find almost everything you need to get you on
  the trail or up that mountain.  
LAST-MODIFIED;VALUE=DATE-TIME:20170215T212243Z
LOCATION:Columbian Hall
URL:https://www.mountaineers.org/locations-lodges/olympia-branch/events/ol
 ympia-mountaineers-used-gear-sale
END:VEVENT
BEGIN:VTIMEZONE
TZID:America/Los_Angeles
X-LIC-LOCATION:America/Los_Angeles
BEGIN:STANDARD
DTSTART;VALUE=DATE-TIME:20161106T010000
TZNAME:PST
TZOFFSETFROM:-0700
TZOFFSETTO:-0800
END:STANDARD
END:VTIMEZONE
END:VCALENDAR
