BEGIN:VCALENDAR
VERSION:2.0
PRODID:-//Plone.org//NONSGML plone.app.event//EN
X-WR-TIMEZONE:US/Pacific
BEGIN:VEVENT
SUMMARY:Olympia Branch Open House
DTSTART;VALUE=DATE-TIME:20260106T173000
DTEND;VALUE=DATE-TIME:20260106T200000
DTSTAMP;VALUE=DATE-TIME:20260420T095412Z
UID:56db26fad0c04eee924c4c9e272596c2@localhost:6081
CREATED;VALUE=DATE-TIME:20251130T215925Z
DESCRIPTION:The public is invited to spend an evening learning about the p
 rograms and activities of the Olympia Branch of The Mountaineers. If you w
 ould like to volunteer at the event\, RSVP below.
LAST-MODIFIED;VALUE=DATE-TIME:20251201T203952Z
LOCATION:St Martins Worthington Center
URL:https://www.mountaineers.org/locations-lodges/olympia-branch/events/ol
 ympia-branch-open-house-1
END:VEVENT
BEGIN:VTIMEZONE
TZID:America/Los_Angeles
X-LIC-LOCATION:America/Los_Angeles
BEGIN:STANDARD
DTSTART;VALUE=DATE-TIME:20251102T010000
TZNAME:PST
TZOFFSETFROM:-0700
TZOFFSETTO:-0800
END:STANDARD
END:VTIMEZONE
END:VCALENDAR
