BEGIN:VCALENDAR
VERSION:2.0
PRODID:-//Plone.org//NONSGML plone.app.event//EN
X-WR-TIMEZONE:US/Pacific
BEGIN:VEVENT
SUMMARY:OLY Pathfinders & Explorers Joint Trip - Exit 38
DTSTART;VALUE=DATE:20260607
DTEND;VALUE=DATE:20260608
DTSTAMP;VALUE=DATE-TIME:20260420T150613Z
UID:62d564c6a84b45df80c55a06d5760b87
CATEGORIES:Youth
DESCRIPTION:A joint adventure with the Pathfinders & Explorers!
LOCATION:Exit 38
URL:https://www.mountaineers.org/locations-lodges/olympia-branch/committee
 s/olympia-youth-outreach-committee/course-templates/explorers-olympia-2020
 -olympia/activities/oly-pathfinders-explorers-joint-trip-exit-38-1
END:VEVENT
END:VCALENDAR
