BEGIN:VCALENDAR
VERSION:2.0
PRODID:-//Plone.org//NONSGML plone.app.event//EN
X-WR-TIMEZONE:US/Pacific
BEGIN:VEVENT
SUMMARY:Essentials of Backpacking Show Us Your Gear - Lions Park\, Olympia
DTSTART;VALUE=DATE:20260429
DTEND;VALUE=DATE:20260430
DTSTAMP;VALUE=DATE-TIME:20260420T064633Z
UID:8a9748dddc3d4c82ac49b019870bde89
CATEGORIES:Backpacking
DESCRIPTION:Student Gear Demo Day Field trip for the Essentials of Backpac
 king Course Olympia 2026.
LOCATION:Lions Park\, Olympia
URL:https://www.mountaineers.org/locations-lodges/olympia-branch/committee
 s/olympia-hiking-backpacking-committee/course-templates/backpacking-olympi
 a/activities/essentials-of-backpacking-show-us-your-gear-lions-park-olympi
 a-1
END:VEVENT
END:VCALENDAR
