BEGIN:VCALENDAR
VERSION:2.0
PRODID:-//Plone.org//NONSGML plone.app.event//EN
X-WR-TIMEZONE:US/Pacific
BEGIN:VEVENT
SUMMARY:Essentials of Backpacking Field Trip - Lewis and Clark State Park
DTSTART;VALUE=DATE:20260606
DTEND;VALUE=DATE:20260607
DTSTAMP;VALUE=DATE-TIME:20260420T064521Z
UID:a7b04892c4bb466784d44a8ad383bca5
CATEGORIES:Backpacking
DESCRIPTION:Field trip for the Essentials of Backpacking Course
LOCATION:Lewis and Clark State Park
URL:https://www.mountaineers.org/locations-lodges/olympia-branch/committee
 s/olympia-hiking-backpacking-committee/course-templates/backpacking-olympi
 a/activities/essentials-of-backpacking-field-trip-lewis-and-clark-state-pa
 rk
END:VEVENT
END:VCALENDAR
