BEGIN:VCALENDAR
VERSION:2.0
PRODID:-//Plone.org//NONSGML plone.app.event//EN
X-WR-TIMEZONE:US/Pacific
BEGIN:VEVENT
SUMMARY:Crosscut Saw Training - Quilcene Ranger Station
DTSTART;VALUE=DATE:20190302
DTEND;VALUE=DATE:20190303
DTSTAMP;VALUE=DATE-TIME:20260420T200507Z
UID:4a29dc2795b3425fbf4faba8263146c3
CATEGORIES:Stewardship,Outdoor Leadership
DESCRIPTION:Crosscut Sawyer certification or recertification class for Mou
 ntaineers (primarily Olympia Branch) wanting to meet the US Forest Service
  - National Saw Standards and join the Olympia Branch as a sawyer in clear
 ing trails in the Olympic National Forest and elsewhere.  Course participa
 nts are expected to sign up for any of the Olympia Branch trail maintenanc
 e trips when Crosscut Sawyers will be needed.
LOCATION:Quilcene Ranger Station
URL:https://www.mountaineers.org/locations-lodges/olympia-branch/committee
 s/olympia-conservation-stewardship-committee/seminars-clinics/crosscut-saw
 -training-quilcene-ranger-station
END:VEVENT
END:VCALENDAR
