BEGIN:VCALENDAR
VERSION:2.0
PRODID:-//Plone.org//NONSGML plone.app.event//EN
X-WR-TIMEZONE:US/Pacific
BEGIN:VEVENT
SUMMARY:Conservation Leadership Development Meeting - Lacey Community Cent
 er
DTSTART;VALUE=DATE:20190221
DTEND;VALUE=DATE:20190222
DTSTAMP;VALUE=DATE-TIME:20260420T213451Z
UID:222d7ebaf69d4472b168950786fc32de
CATEGORIES:Stewardship,Outdoor Leadership
DESCRIPTION:The Annual Conservation Planning and Stewardship Development m
 eeting will feature a visual report on 2018 activities\, planning for 2019
  Stewardship trips and courses\; and learning more about local Conservatio
 n Issues.
LOCATION:Lacey Community Center
URL:https://www.mountaineers.org/locations-lodges/olympia-branch/committee
 s/olympia-conservation-stewardship-committee/seminars-clinics/conservation
 -leadership-development-meeting-lacey-community-center
END:VEVENT
END:VCALENDAR
