BEGIN:VCALENDAR
VERSION:2.0
PRODID:-//Plone.org//NONSGML plone.app.event//EN
X-WR-TIMEZONE:US/Pacific
BEGIN:VEVENT
SUMMARY:Snowshoe Trek and Lunch (L) - Meany Lodge
DTSTART;VALUE=DATE:20180106
DTEND;VALUE=DATE:20180107
DTSTAMP;VALUE=DATE-TIME:20260419T181332Z
UID:1271e2cfdf004d2c9d309a5e94a729f8
CATEGORIES:Snowshoeing
DESCRIPTION:3 - 4 miles with  500 ft elevation gain in last mile (approx 2
  - 3 hrs) guided snowshoe to Meany Lodge\, where a hot lunch will be serve
 d about 12:30 PM. 3 - 5 miles back down to the snow-park. **Please put Die
 tary Restrictions and/or Snowshoe borrow request(s) in Notes when register
 ing**
LOCATION:Meany Lodge
URL:https://www.mountaineers.org/locations-lodges/meany-lodge/seminars-cli
 nics/snowshoe-trek-and-lunch-l-meany-lodge
END:VEVENT
END:VCALENDAR
