BEGIN:VCALENDAR
VERSION:2.0
PRODID:-//Plone.org//NONSGML plone.app.event//EN
X-WR-TIMEZONE:US/Pacific
BEGIN:VEVENT
SUMMARY:Single Day Ski Lesson - Meany Lodge
DTSTART;VALUE=DATE:20240106
DTEND;VALUE=DATE:20240107
DTSTAMP;VALUE=DATE-TIME:20260420T072915Z
UID:c494948371dc4d958fa3543544fe0ccd
CATEGORIES:Downhill Skiing & Snowboarding
DESCRIPTION:Improve your downhill ski skills without long lift lines in a 
 friendly small group setting.  This includes two 1-hour lessons.  PLEASE R
 EMEMBER TO SIGN UP FOR DAY USE OR OVERNIGHT IN ADDITION TO THE LESSON!
LOCATION:Meany Lodge
URL:https://www.mountaineers.org/locations-lodges/meany-lodge/seminars-cli
 nics/single-day-ski-lesson-meany-lodge
END:VEVENT
END:VCALENDAR
