BEGIN:VCALENDAR
VERSION:2.0
PRODID:-//Plone.org//NONSGML plone.app.event//EN
X-WR-TIMEZONE:US/Pacific
BEGIN:VEVENT
SUMMARY:Day Use - Meany Lodge
DTSTART;VALUE=DATE:20170107
DTEND;VALUE=DATE:20170108
DTSTAMP;VALUE=DATE-TIME:20260420T072915Z
UID:6e9c5b12395646e8b623e702d92ba66e
CATEGORIES:Skiing/Snowboarding
DESCRIPTION:Spend the day at Meany\, use the rope tows\, ski our hills and
  paths\, take a cat ride\, and eat lunch at the lodge.
LOCATION:Meany Lodge
URL:https://www.mountaineers.org/locations-lodges/meany-lodge/seminars-cli
 nics/day-use-meany-lodge
END:VEVENT
END:VCALENDAR
