BEGIN:VCALENDAR
VERSION:2.0
PRODID:-//Plone.org//NONSGML plone.app.event//EN
X-WR-TIMEZONE:US/Pacific
BEGIN:VEVENT
SUMMARY:Cross-country Ski Trek to Meany Lodge for Lunch - Meany Lodge
DTSTART;VALUE=DATE:20180113
DTEND;VALUE=DATE:20180114
DTSTAMP;VALUE=DATE-TIME:20260419T181033Z
UID:96310e4e0f994a959e0cf4c7258e94b2
CATEGORIES:Backcountry Skiing
DESCRIPTION:3 - 5 miles with 500 ft elevation gain in last mile (approx 2 
 - 4 hrs depending on route taken) in a guided trek to Meany Lodge. A heart
 y hot lunch will be served at 12:30 PM (make sure to note dietary restrict
 ions when registering).
LOCATION:Meany Lodge
URL:https://www.mountaineers.org/locations-lodges/meany-lodge/seminars-cli
 nics/copy_of_cross-country-radonnee-ski-trek-and-lunch-m-meany-lodge
END:VEVENT
END:VCALENDAR
