BEGIN:VCALENDAR
VERSION:2.0
PRODID:-//Plone.org//NONSGML plone.app.event//EN
X-WR-TIMEZONE:US/Pacific
BEGIN:VEVENT
SUMMARY:Cross-country Ski Trek to Meany Lodge for Lunch - Meany Lodge
DTSTART;VALUE=DATE:20180127
DTEND;VALUE=DATE:20180128
DTSTAMP;VALUE=DATE-TIME:20260419T180832Z
UID:8a86e465c8eb461bb929ffc904e05cae
CATEGORIES:Backcountry Skiing
DESCRIPTION:3 - 5 miles with 500 ft elevation gain in last mile (approx 2 
 - 3 hrs) in a guided trek to Meany Lodge. A hearty hot lunch will be serve
 d at 12:30 PM (make sure to note dietary restrictions when registering).
LOCATION:Meany Lodge
URL:https://www.mountaineers.org/locations-lodges/meany-lodge/seminars-cli
 nics/copy3_of_cross-country-radonnee-ski-trek-and-lunch-m-meany-lodge
END:VEVENT
END:VCALENDAR
