BEGIN:VCALENDAR
VERSION:2.0
PRODID:-//Plone.org//NONSGML plone.app.event//EN
X-WR-TIMEZONE:US/Pacific
BEGIN:VEVENT
SUMMARY:Snowshoe Trek and Lunch (L) - Meany Lodge
DTSTART;VALUE=DATE:20180127
DTEND;VALUE=DATE:20180128
DTSTAMP;VALUE=DATE-TIME:20260419T193013Z
UID:3f423373965c48ae935034327aba1766
CATEGORIES:Snowshoeing
DESCRIPTION:Snowshoe from Crystal Springs Sno-Park to Meany Lodge for a ho
 t lunch at the lodge on Saturdays this winter. Routes vary\, typically 7+ 
 miles round-trip and 550 feet elevation gain. **Please put Dietary Restric
 tions and/or Snowshoe borrow request(s) in Notes when registering**
LOCATION:Meany Lodge
URL:https://www.mountaineers.org/locations-lodges/meany-lodge/seminars-cli
 nics/copy2_of_snowshoe-trek-and-lunch-l-meany-lodge-1
END:VEVENT
END:VCALENDAR
