BEGIN:VCALENDAR
VERSION:2.0
PRODID:-//Plone.org//NONSGML plone.app.event//EN
X-WR-TIMEZONE:US/Pacific
BEGIN:VEVENT
SUMMARY:Cross-country Ski Trek to Meany Lodge for Lunch - Meany Lodge
DTSTART;VALUE=DATE:20180120
DTEND;VALUE=DATE:20180121
DTSTAMP;VALUE=DATE-TIME:20260419T181021Z
UID:c3d1912dbcce4204856eceb7dc2ee47a
CATEGORIES:Backcountry Skiing
DESCRIPTION:3 - 5 miles with 500 ft elevation gain in last mile (approx 2 
 - 3 hrs) in a guided trek to Meany Lodge. A hearty hot lunch will be serve
 d at 12:30 PM (make sure to note dietary restrictions when registering).
LOCATION:Meany Lodge
URL:https://www.mountaineers.org/locations-lodges/meany-lodge/seminars-cli
 nics/copy2_of_cross-country-radonnee-ski-trek-and-lunch-m-meany-lodge
END:VEVENT
END:VCALENDAR
