BEGIN:VCALENDAR
VERSION:2.0
PRODID:-//Plone.org//NONSGML plone.app.event//EN
X-WR-TIMEZONE:US/Pacific
BEGIN:VEVENT
SUMMARY:Kitsap Branch Meeting - Q2 2026
DTSTART;VALUE=DATE-TIME:20260422T180000
DTEND;VALUE=DATE-TIME:20260422T193000
DTSTAMP;VALUE=DATE-TIME:20260420T064345Z
UID:dc8201031e074156b7536269ce70a1ea@localhost:6081
CREATED;VALUE=DATE-TIME:20260319T162201Z
DESCRIPTION:Branch governance and planning meeting. All members welcome.
LAST-MODIFIED;VALUE=DATE-TIME:20260330T210619Z
LOCATION:Zoom - see details
URL:https://www.mountaineers.org/locations-lodges/kitsap-branch/events/bra
 nch-meeting-2026-04-22
END:VEVENT
BEGIN:VTIMEZONE
TZID:America/Los_Angeles
X-LIC-LOCATION:America/Los_Angeles
BEGIN:DAYLIGHT
DTSTART;VALUE=DATE-TIME:20260308T030000
TZNAME:PDT
TZOFFSETFROM:-0800
TZOFFSETTO:-0700
END:DAYLIGHT
END:VTIMEZONE
END:VCALENDAR
