BEGIN:VCALENDAR
VERSION:2.0
PRODID:-//Plone.org//NONSGML plone.app.event//EN
X-WR-TIMEZONE:US/Pacific
BEGIN:VEVENT
SUMMARY:Climbing Self-Rescue I Field Trip - Green Mountain: School Rock
DTSTART;VALUE=DATE:20260531
DTEND;VALUE=DATE:20260601
DTSTAMP;VALUE=DATE-TIME:20260420T064443Z
UID:7b37ab1db7d5466fb8988b2ff4203684
CATEGORIES:Climbing
DESCRIPTION:Practice skills learned during Classroom Sessions 1 and 2 to c
 onduct small party rescue scenarios that will require the employment of ra
 ising and lowering systems\, movement on rope\, and scene control.
LOCATION:Green Mountain: School Rock
URL:https://www.mountaineers.org/locations-lodges/kitsap-branch/committees
 /kitsap-climbing-committee/course-templates/intermediate-climbing-courses/
 self-rescue-ii-advanced-techniques/activities/climbing-self-rescue-i-field
 -trip-green-mountain-school-rock-2
END:VEVENT
END:VCALENDAR
