BEGIN:VCALENDAR
VERSION:2.0
PRODID:-//Plone.org//NONSGML plone.app.event//EN
X-WR-TIMEZONE:US/Pacific
BEGIN:VEVENT
SUMMARY:Climbing Self-Rescue I Classroom Session 1 - Mountaineers Kitsap P
 rogram Center
DTSTART;VALUE=DATE:20260520
DTEND;VALUE=DATE:20260521
DTSTAMP;VALUE=DATE-TIME:20260420T064444Z
UID:dd813d886fcc420b9512b418c3acbab4
CATEGORIES:Climbing
DESCRIPTION:The Kitsap Climbing Self-Rescue I module teaches small party (
 2+ rope teams) self-rescue. This classroom session will present and develo
 p individual and group skills fundamental to self-rescue on rock\, glacier
 s\, and ice and present theory related to mechanical advantage and anchor 
 forces.
LOCATION:Mountaineers Kitsap Program Center
URL:https://www.mountaineers.org/locations-lodges/kitsap-branch/committees
 /kitsap-climbing-committee/course-templates/intermediate-climbing-courses/
 self-rescue-ii-advanced-techniques/activities/climbing-self-rescue-i-class
 room-session-1-mountaineers-kitsap-program-center-2
END:VEVENT
END:VCALENDAR
