BEGIN:VCALENDAR
VERSION:2.0
PRODID:-//Plone.org//NONSGML plone.app.event//EN
X-WR-TIMEZONE:US/Pacific
BEGIN:VEVENT
SUMMARY:Activity 7 (2023) Crevasse Rescue Exam - Hurricane Ridge (winter)
DTSTART;VALUE=DATE:20260328
DTEND;VALUE=DATE:20260329
DTSTAMP;VALUE=DATE-TIME:20260420T021455Z
UID:22f4d583cfa743678ce51db111145b33
CATEGORIES:Climbing
DESCRIPTION:Crevasse Rescue Exam
LOCATION:Hurricane Ridge (winter)
URL:https://www.mountaineers.org/locations-lodges/kitsap-branch/committees
 /kitsap-climbing-committee/course-templates/basic-climbing-course/activiti
 es/activity-7-2023-crevasse-rescue-exam-hurricane-ridge-winter-3
END:VEVENT
END:VCALENDAR
