BEGIN:VCALENDAR
VERSION:2.0
PRODID:-//Plone.org//NONSGML plone.app.event//EN
X-WR-TIMEZONE:US/Pacific
BEGIN:VEVENT
SUMMARY:Activity 6 (2023) Crevasse Rescue - Hurricane Ridge (winter)
DTSTART;VALUE=DATE:20260321
DTEND;VALUE=DATE:20260322
DTSTAMP;VALUE=DATE-TIME:20260420T035616Z
UID:10982285217e477f9942287b9a94a163
CATEGORIES:Climbing
DESCRIPTION:Crevasse Rescue
LOCATION:Hurricane Ridge (winter)
URL:https://www.mountaineers.org/locations-lodges/kitsap-branch/committees
 /kitsap-climbing-committee/course-templates/basic-climbing-course/activiti
 es/activity-6-2023-crevasse-rescue-hurricane-ridge-winter-5
END:VEVENT
END:VCALENDAR
