BEGIN:VCALENDAR
VERSION:2.0
PRODID:-//Plone.org//NONSGML plone.app.event//EN
X-WR-TIMEZONE:US/Pacific
BEGIN:VEVENT
SUMMARY:Walking the Wild: Trekking the O-circuit in Torres del Paine\, Pat
 agonia with Emma Agosta and Brian Starlin
DTSTART;VALUE=DATE-TIME:20251023T190000
DTEND;VALUE=DATE-TIME:20251023T203000
DTSTAMP;VALUE=DATE-TIME:20260420T061314Z
UID:13509129ce7e447c8bc96fb009e3be5f@localhost:6081
CREATED;VALUE=DATE-TIME:20250826T210823Z
DESCRIPTION:Join Emma Agosta and Brian Starlin as they take you on an unfo
 rgettable journey through Patagonia’s breathtaking Torres del Paine O-Ci
 rcuit. Hear their stories from the trail and be inspired by stunning photo
 s of glaciers\, rugged peaks\, and wild landscapes. Don’t miss this chan
 ce to experience one of the world’s most spectacular treks without leavi
 ng your seat!
LAST-MODIFIED;VALUE=DATE-TIME:20251021T183905Z
LOCATION:Zoom Video Presentation
URL:https://www.mountaineers.org/locations-lodges/foothills-branch/events/
 walking-the-wild-trekking-the-o-circuit-in-torres-del-paine-patagonia-with
 -emma-agosta-and-brian-starlin
END:VEVENT
BEGIN:VTIMEZONE
TZID:America/Los_Angeles
X-LIC-LOCATION:America/Los_Angeles
BEGIN:DAYLIGHT
DTSTART;VALUE=DATE-TIME:20250309T030000
TZNAME:PDT
TZOFFSETFROM:-0800
TZOFFSETTO:-0700
END:DAYLIGHT
END:VTIMEZONE
END:VCALENDAR
