BEGIN:VCALENDAR
VERSION:2.0
PRODID:-//Plone.org//NONSGML plone.app.event//EN
X-WR-TIMEZONE:US/Pacific
BEGIN:VEVENT
SUMMARY:The 19th Annual Backcountry Film Festival - Bellevue
DTSTART;VALUE=DATE-TIME:20240213T190000
DTEND;VALUE=DATE-TIME:20240213T210000
DTSTAMP;VALUE=DATE-TIME:20260419T125313Z
UID:66f1649099be4021aba699dcc0051e1b@localhost:6081
CREATED;VALUE=DATE-TIME:20231026T221946Z
DESCRIPTION:The Backcountry Film Festival will be screening a collage of s
 hort documentaries and ski movies about the pursuit of objectives and idea
 ls in the mountains\, artistic vision\, friendship\, and how the snowsport
 s community is adapting to a changing environment. The total runtime is 2 
 hours. The Backcountry Film Festival\, presented by Winter Wildlands Allia
 nce\, celebrates human-powered\, backcountry-inspired stories rooted in wi
 ld snowscapes\, stewardship and stoke.
LAST-MODIFIED;VALUE=DATE-TIME:20240211T194541Z
LOCATION:Bellevue Youth Theatre
URL:https://www.mountaineers.org/locations-lodges/foothills-branch/events/
 the-19th-annual-backcountry-film-festival
END:VEVENT
BEGIN:VTIMEZONE
TZID:America/Los_Angeles
X-LIC-LOCATION:America/Los_Angeles
BEGIN:STANDARD
DTSTART;VALUE=DATE-TIME:20231105T010000
TZNAME:PST
TZOFFSETFROM:-0700
TZOFFSETTO:-0800
END:STANDARD
END:VTIMEZONE
END:VCALENDAR
