BEGIN:VCALENDAR
VERSION:2.0
PRODID:-//Plone.org//NONSGML plone.app.event//EN
X-WR-TIMEZONE:US/Pacific
BEGIN:VEVENT
SUMMARY: Mt. Spokane X-C Ski and Snowshoe Weekend
DTSTART;VALUE=DATE-TIME:20200117T090000
DTEND;VALUE=DATE-TIME:20200119T120000
DTSTAMP;VALUE=DATE-TIME:20260421T102115Z
UID:665998f3156f4c2ba8a47d147d0f6dce@localhost:6081
CREATED;VALUE=DATE-TIME:20190722T185407Z
DESCRIPTION:Join the Foothills Nordic Ski Committee for a winter weekend o
 f cross-country skiing and snowshoeing in Mt Spokane State Park! Enjoy the
  snowy winter splendor of x-c skiing or snow shoeing in historic Mount Spo
 kane State Park in Eastern WA.  Mt. Spokane Park is an easy 50 minute driv
 e from downtown Spokane. If offers cross country skiing and snowshoeing in
  a winter wonderland setting on a mountain that is over 5\,000 ft. with st
 upendous views of Idaho Mountain Ranges and the Canadian Rockies from many
  vistas along the intermediate and advanced trails. \n\n
LAST-MODIFIED;VALUE=DATE-TIME:20191014T105319Z
LOCATION:Spokane\, WA
URL:https://www.mountaineers.org/locations-lodges/foothills-branch/events/
 spokane-nordic-ski-weekend
END:VEVENT
BEGIN:VTIMEZONE
TZID:America/Los_Angeles
X-LIC-LOCATION:America/Los_Angeles
BEGIN:STANDARD
DTSTART;VALUE=DATE-TIME:20191103T010000
TZNAME:PST
TZOFFSETFROM:-0700
TZOFFSETTO:-0800
END:STANDARD
END:VTIMEZONE
END:VCALENDAR
