BEGIN:VCALENDAR
VERSION:2.0
PRODID:-//Plone.org//NONSGML plone.app.event//EN
X-WR-TIMEZONE:US/Pacific
BEGIN:VEVENT
SUMMARY:Pacific Crest Trail Challenge Kickoff Event
DTSTART;VALUE=DATE-TIME:20160524T183000
DTEND;VALUE=DATE-TIME:20160524T204500
DTSTAMP;VALUE=DATE-TIME:20260421T013624Z
UID:09c49d90ec634c379ababa7a9962efda@localhost:6081
CREATED;VALUE=DATE-TIME:20160430T155201Z
DESCRIPTION:Join us for this fun and interesting event to kick off the 201
 6 Mountaineers PCT Challenge!  
LAST-MODIFIED;VALUE=DATE-TIME:20160506T203320Z
LOCATION:Kent Regional Library 
URL:https://www.mountaineers.org/locations-lodges/foothills-branch/events/
 pacific-crest-trail-challenge-kickoff-event
END:VEVENT
BEGIN:VTIMEZONE
TZID:America/Los_Angeles
X-LIC-LOCATION:America/Los_Angeles
BEGIN:DAYLIGHT
DTSTART;VALUE=DATE-TIME:20160313T030000
TZNAME:PDT
TZOFFSETFROM:-0800
TZOFFSETTO:-0700
END:DAYLIGHT
END:VTIMEZONE
END:VCALENDAR
