BEGIN:VCALENDAR
VERSION:2.0
PRODID:-//Plone.org//NONSGML plone.app.event//EN
X-WR-TIMEZONE:US/Pacific
BEGIN:VEVENT
SUMMARY:Online: Mountaineers Book Club Featuring Women & POC Authors
DTSTART;VALUE=DATE-TIME:20200622T190000
DTEND;VALUE=DATE-TIME:20200622T200000
DTSTAMP;VALUE=DATE-TIME:20260421T014848Z
UID:c1f161090fe442ec90708842105cb212@localhost:6081
CREATED;VALUE=DATE-TIME:20200608T203544Z
DESCRIPTION:Registration required\, see registration link in listing.\n
LAST-MODIFIED;VALUE=DATE-TIME:20200608T225647Z
LOCATION:Zoom Meeting
URL:https://www.mountaineers.org/locations-lodges/foothills-branch/events/
 online-mountaineers-book-club-featuring-women-poc-authors
END:VEVENT
BEGIN:VTIMEZONE
TZID:America/Los_Angeles
X-LIC-LOCATION:America/Los_Angeles
BEGIN:DAYLIGHT
DTSTART;VALUE=DATE-TIME:20200308T030000
TZNAME:PDT
TZOFFSETFROM:-0800
TZOFFSETTO:-0700
END:DAYLIGHT
END:VTIMEZONE
END:VCALENDAR
