BEGIN:VCALENDAR
VERSION:2.0
PRODID:-//Plone.org//NONSGML plone.app.event//EN
X-WR-TIMEZONE:US/Pacific
BEGIN:VEVENT
SUMMARY:Mountainfilm on Tour - Foothills/Bellevue
DTSTART;VALUE=DATE-TIME:20221105T193000
DTEND;VALUE=DATE-TIME:20221105T213000
DTSTAMP;VALUE=DATE-TIME:20260420T233734Z
UID:e5efaf0a255041429d0734999d8c5922@localhost:6081
CREATED;VALUE=DATE-TIME:20210105T203527Z
DESCRIPTION:Join us for our annual Bellevue showing of the Mountainfilm Fe
 stival\, presenting documentary films that celebrate stories of indomitabl
 e spirit that embrace outdoor adventure\, celebrate courage\, and honor th
 e great outdoors and our natural world.
LAST-MODIFIED;VALUE=DATE-TIME:20221105T214332Z
LOCATION:Bellevue Youth Theatre
URL:https://www.mountaineers.org/locations-lodges/foothills-branch/events/
 mountainfilm-festival
END:VEVENT
BEGIN:VTIMEZONE
TZID:America/Los_Angeles
X-LIC-LOCATION:America/Los_Angeles
BEGIN:DAYLIGHT
DTSTART;VALUE=DATE-TIME:20220313T030000
TZNAME:PDT
TZOFFSETFROM:-0800
TZOFFSETTO:-0700
END:DAYLIGHT
END:VTIMEZONE
END:VCALENDAR
