BEGIN:VCALENDAR
VERSION:2.0
PRODID:-//Plone.org//NONSGML plone.app.event//EN
X-WR-TIMEZONE:US/Pacific
BEGIN:VEVENT
SUMMARY:Methow Valley Winter Trails Weekend
DTSTART;VALUE=DATE-TIME:20200103T080000
DTEND;VALUE=DATE-TIME:20200106T170000
DTSTAMP;VALUE=DATE-TIME:20260421T120200Z
UID:496b9f1c862f42eab697230e7006e348@localhost:6081
CREATED;VALUE=DATE-TIME:20190722T183455Z
DESCRIPTION:Join us for 4 days of cross country ski trips\, with options t
 o snowshoe\, take a sleigh ride\, and much more. SKIERS MUST BE REGISTERED
  PARTICIPANTS ON TRIPS TO JOIN THE OFFICIAL MOUNTAINEER SKI TRIPS.
LAST-MODIFIED;VALUE=DATE-TIME:20200102T145521Z
LOCATION:Methow Valley
URL:https://www.mountaineers.org/locations-lodges/foothills-branch/events/
 methow-valley-ski-weekend
END:VEVENT
BEGIN:VTIMEZONE
TZID:America/Los_Angeles
X-LIC-LOCATION:America/Los_Angeles
BEGIN:STANDARD
DTSTART;VALUE=DATE-TIME:20191103T010000
TZNAME:PST
TZOFFSETFROM:-0700
TZOFFSETTO:-0800
END:STANDARD
END:VTIMEZONE
END:VCALENDAR
