BEGIN:VCALENDAR
VERSION:2.0
PRODID:-//Plone.org//NONSGML plone.app.event//EN
X-WR-TIMEZONE:US/Pacific
BEGIN:VEVENT
SUMMARY:Leavenworth/Plain Nordic Ski tour
DTSTART;VALUE=DATE-TIME:20200129T130000
DTEND;VALUE=DATE-TIME:20200131T130000
DTSTAMP;VALUE=DATE-TIME:20260421T115944Z
UID:486d4196ecd14db38dde726c95a87689@localhost:6081
CREATED;VALUE=DATE-TIME:20191127T063601Z
DESCRIPTION:A fun 3 days of Cross-Country skiing on groomed trails in Leav
 enworth/Plain area. Several lodging options available.
LAST-MODIFIED;VALUE=DATE-TIME:20191203T222943Z
LOCATION:Leavenworth/Plain
URL:https://www.mountaineers.org/locations-lodges/foothills-branch/events/
 leavenworth-plain-nordic-ski-tour
END:VEVENT
BEGIN:VTIMEZONE
TZID:America/Los_Angeles
X-LIC-LOCATION:America/Los_Angeles
BEGIN:STANDARD
DTSTART;VALUE=DATE-TIME:20191103T010000
TZNAME:PST
TZOFFSETFROM:-0700
TZOFFSETTO:-0800
END:STANDARD
END:VTIMEZONE
END:VCALENDAR
