BEGIN:VCALENDAR
VERSION:2.0
PRODID:-//Plone.org//NONSGML plone.app.event//EN
X-WR-TIMEZONE:US/Pacific
BEGIN:VEVENT
SUMMARY:Foothills Climbing Committee meeting
DTSTART;VALUE=DATE-TIME:20260325T180000
DTEND;VALUE=DATE-TIME:20260325T180000
DTSTAMP;VALUE=DATE-TIME:20260420T021115Z
UID:6f0f0f998636456699e26b3c239ed21b@localhost:6081
CREATED;VALUE=DATE-TIME:20260311T180014Z
DESCRIPTION:Quarterly in person Foothills Climbing Committee meeting
LAST-MODIFIED;VALUE=DATE-TIME:20260311T180446Z
LOCATION:Bellevue City Hall
URL:https://www.mountaineers.org/locations-lodges/foothills-branch/events/
 foothills-climbing-committee-meeting-6
END:VEVENT
BEGIN:VTIMEZONE
TZID:America/Los_Angeles
X-LIC-LOCATION:America/Los_Angeles
BEGIN:DAYLIGHT
DTSTART;VALUE=DATE-TIME:20260308T030000
TZNAME:PDT
TZOFFSETFROM:-0800
TZOFFSETTO:-0700
END:DAYLIGHT
END:VTIMEZONE
END:VCALENDAR
