BEGIN:VCALENDAR
VERSION:2.0
PRODID:-//Plone.org//NONSGML plone.app.event//EN
X-WR-TIMEZONE:US/Pacific
BEGIN:VEVENT
SUMMARY:Filmmaking in the Wilderness: How to tell your adventure story 
DTSTART;VALUE=DATE-TIME:20200923T190000
DTEND;VALUE=DATE-TIME:20200923T203000
DTSTAMP;VALUE=DATE-TIME:20260419T124213Z
UID:a5cecebc4b924c0ba423dea56a1d3b12@localhost:6081
CREATED;VALUE=DATE-TIME:20200806T195634Z
DESCRIPTION:Join Alex Maier\, long distance hiker and documentary filmmake
 r\, for this practical seminar with essential tools and tips to make your 
 own documentary films with lightweight\, inexpensive to high-end gear whil
 e hiking!
LAST-MODIFIED;VALUE=DATE-TIME:20200825T204745Z
LOCATION:Online Classroom
URL:https://www.mountaineers.org/locations-lodges/foothills-branch/events/
 filmmaking-in-the-wilderness-how-to-tell-your-adventure-story
END:VEVENT
BEGIN:VTIMEZONE
TZID:America/Los_Angeles
X-LIC-LOCATION:America/Los_Angeles
BEGIN:DAYLIGHT
DTSTART;VALUE=DATE-TIME:20200308T030000
TZNAME:PDT
TZOFFSETFROM:-0800
TZOFFSETTO:-0700
END:DAYLIGHT
END:VTIMEZONE
END:VCALENDAR
