BEGIN:VCALENDAR
VERSION:2.0
PRODID:-//Plone.org//NONSGML plone.app.event//EN
X-WR-TIMEZONE:US/Pacific
BEGIN:VEVENT
SUMMARY:Foothills Backpacking Committee Meet & Greet: Incoming Chair
DTSTART;VALUE=DATE-TIME:20240129T190000
DTEND;VALUE=DATE-TIME:20240129T203000
DTSTAMP;VALUE=DATE-TIME:20260419T154537Z
UID:2f2a4546353e481d9b35a20ee2d4aaa0@localhost:6081
CREATED;VALUE=DATE-TIME:20231222T221601Z
DESCRIPTION:An opportunity for the new incoming chair to meet leaders and 
 discuss goals and intentions moving forward in 2024.
LAST-MODIFIED;VALUE=DATE-TIME:20240127T180920Z
LOCATION:Zoom Meeting
URL:https://www.mountaineers.org/locations-lodges/foothills-branch/events/
 backpacking-committee-meet-greet-incoming-chair
END:VEVENT
BEGIN:VTIMEZONE
TZID:America/Los_Angeles
X-LIC-LOCATION:America/Los_Angeles
BEGIN:STANDARD
DTSTART;VALUE=DATE-TIME:20231105T010000
TZNAME:PST
TZOFFSETFROM:-0700
TZOFFSETTO:-0800
END:STANDARD
END:VTIMEZONE
END:VCALENDAR
