BEGIN:VCALENDAR
VERSION:2.0
PRODID:-//Plone.org//NONSGML plone.app.event//EN
X-WR-TIMEZONE:US/Pacific
BEGIN:VEVENT
SUMMARY:Backpackers' Pajama Party:  The North Cascades\, Copper Ridge and 
 Devil's Dome loops
DTSTART;VALUE=DATE-TIME:20200424T190000
DTEND;VALUE=DATE-TIME:20200424T203000
DTSTAMP;VALUE=DATE-TIME:20260419T175015Z
UID:8a7188d8f3cd4b7081d545508c3db0ed@localhost:6081
CREATED;VALUE=DATE-TIME:20200410T150653Z
DESCRIPTION:Don your onesie and slippers\, grab a favorite beverage and so
 me popcorn\, and join your fellow backpackers in this virtual trip along a
  favorite backpacking route in the North Cascades!  Free and open to the p
 ublic\, but you must RSVP to this event in advance and the zoom link will 
 be emailed to you (watch your junk mail!)
LAST-MODIFIED;VALUE=DATE-TIME:20200418T140557Z
LOCATION:Online Classroom
URL:https://www.mountaineers.org/locations-lodges/foothills-branch/events/
 backpackers-pajama-party-the-north-cascades-pct-rainy-pass-to-manning-park
 -2020-04-24
END:VEVENT
BEGIN:VTIMEZONE
TZID:America/Los_Angeles
X-LIC-LOCATION:America/Los_Angeles
BEGIN:DAYLIGHT
DTSTART;VALUE=DATE-TIME:20200308T030000
TZNAME:PDT
TZOFFSETFROM:-0800
TZOFFSETTO:-0700
END:DAYLIGHT
END:VTIMEZONE
END:VCALENDAR
