BEGIN:VCALENDAR
VERSION:2.0
PRODID:-//Plone.org//NONSGML plone.app.event//EN
X-WR-TIMEZONE:US/Pacific
BEGIN:VEVENT
SUMMARY:Winter Tent Camping Field Trip - Chocolate Falls
DTSTART;VALUE=DATE:20230304
DTEND;VALUE=DATE:20230305
DTSTAMP;VALUE=DATE-TIME:20260420T073201Z
UID:82715752faa14400b260417b7f78cb8d
CATEGORIES:Backcountry Skiing,Snowshoeing
DESCRIPTION:THIS IS THE BACKCOUNTRY SKI-FRIENDLY FIELD TRIP. Skiers\, spli
 tboarders and snowshoers welcome on this field trip. Practice winter campi
 ng skills\, try out gear\, learn hands-on about how to be safe and comfort
 able camping in the backcountry in winter conditions.
LOCATION:Chocolate Falls
URL:https://www.mountaineers.org/locations-lodges/foothills-branch/committ
 ees/foothills-snowshoe-committee/course-templates/winter-camping-course-fo
 othills-foothills/activities/winter-camping-field-trip-chocolate-falls
END:VEVENT
END:VCALENDAR
