BEGIN:VCALENDAR
VERSION:2.0
PRODID:-//Plone.org//NONSGML plone.app.event//EN
X-WR-TIMEZONE:US/Pacific
BEGIN:VEVENT
SUMMARY:Experience Field Trip - Malcolm & Johnson Mountains
DTSTART;VALUE=DATE:20260523
DTEND;VALUE=DATE:20260524
DTSTAMP;VALUE=DATE-TIME:20260423T040607Z
UID:f433d8e4475844d5a0ab5a73bca13e45
CATEGORIES:Scrambling
DESCRIPTION:Day-long field trip to practice all scrambling skills.
LOCATION:Malcolm & Johnson Mountains
URL:https://www.mountaineers.org/locations-lodges/foothills-branch/committ
 ees/foothills-scrambling-committee/course-templates/alpine-scrambling-cour
 se-foothills/activities/experience-field-trip-malcolm-johnson-mountains
END:VEVENT
END:VCALENDAR
