BEGIN:VCALENDAR
VERSION:2.0
PRODID:-//Plone.org//NONSGML plone.app.event//EN
X-WR-TIMEZONE:US/Pacific
BEGIN:VEVENT
SUMMARY:Experience Field Trip - Esmeralda Peaks/West Peak
DTSTART;VALUE=DATE:20260523
DTEND;VALUE=DATE:20260524
DTSTAMP;VALUE=DATE-TIME:20260423T034510Z
UID:54c6439c5ad54221bab99a4f72f249ea
CATEGORIES:Scrambling
DESCRIPTION:Day-long field trip to practice all scrambling skills.
LOCATION:Esmeralda Peaks/West Peak
URL:https://www.mountaineers.org/locations-lodges/foothills-branch/committ
 ees/foothills-scrambling-committee/course-templates/alpine-scrambling-cour
 se-foothills/activities/experience-field-trip-esmeralda-peaks-west-peak
END:VEVENT
END:VCALENDAR
