BEGIN:VCALENDAR
VERSION:2.0
PRODID:-//Plone.org//NONSGML plone.app.event//EN
X-WR-TIMEZONE:US/Pacific
BEGIN:VEVENT
SUMMARY:Mindful Mountaineers | Winter Solstice Relax & Restore Celebration
 : Sound Bath-Gentle Yoga-Urban Walk - Mountaineers Seattle Program Center
DTSTART;VALUE=DATE:20251220
DTEND;VALUE=DATE:20251221
DTSTAMP;VALUE=DATE-TIME:20260421T112741Z
UID:46a389d35f984dd6aa4a01d90a564a80
CATEGORIES:Urban Walking
DESCRIPTION:Sound Bath | Gentle Yoga | Lunch Social: Bring your yoga mats 
 and join us for a special meditative\, restorative experience. We begin wi
 th a gentle yoga and chakra meditation warm up\, then enjoy a sound bath s
 ession by Sound Alchemy\, and finish with an easy paced 3-4 mile urban wal
 k (weather permitting) after the session.\n\n****NOTE: Ticket purchase is 
 non-refundable.
LOCATION:Mountaineers Seattle Program Center
URL:https://www.mountaineers.org/locations-lodges/foothills-branch/committ
 ees/foothills-hiking-backpacking/foothills-urban-walks-committee/seminars-
 clinics/mindful-mountaineers-winter-solstice-relax-restore-celebration-sou
 nd-bath-gentle-yoga-urban-walk-mountaineers-seattle-program-center
END:VEVENT
END:VCALENDAR
