BEGIN:VCALENDAR
VERSION:2.0
PRODID:-//Plone.org//NONSGML plone.app.event//EN
X-WR-TIMEZONE:US/Pacific
BEGIN:VEVENT
SUMMARY:New Hike-Backpack-Urban Walk Leader Seminar - Redmond Public Libra
 ry
DTSTART;VALUE=DATE:20160804
DTEND;VALUE=DATE:20160805
DTSTAMP;VALUE=DATE-TIME:20260420T234306Z
UID:1756ea94db104c329d6c2a34e6f73a3a
CATEGORIES:Outdoor Leadership,Day Hiking,Backpacking
DESCRIPTION:This 2.5 hour evening seminar provides experienced hikers or b
 ackpackers information they need to become an effective hike or backpack l
 eader for the Mountaineers. This seminar is a pre-requisite (along with a 
 mentor hike/backpack and committee approval) to becoming an official hike 
 or backpack leader for the club\, and prospective leaders from any branch 
 can get credit for this session.
LOCATION:Redmond Public Library
URL:https://www.mountaineers.org/locations-lodges/foothills-branch/committ
 ees/foothills-hiking-backpacking/foothills-hiking-committee/seminars-clini
 cs/new-hike-backpack-leader-seminar-eastside-redmond-public-library
END:VEVENT
END:VCALENDAR
