BEGIN:VCALENDAR
VERSION:2.0
PRODID:-//Plone.org//NONSGML plone.app.event//EN
X-WR-TIMEZONE:US/Pacific
BEGIN:VEVENT
SUMMARY:New Hike-Backpack-Urban Walk Leader Seminar - Mercer Island Public
  Library
DTSTART;VALUE=DATE:20170622
DTEND;VALUE=DATE:20170623
DTSTAMP;VALUE=DATE-TIME:20260420T234327Z
UID:b73e9fa53d424a3eb468f07b8f6a0a0c
CATEGORIES:Day Hiking,Backpacking
DESCRIPTION:This 2.5 hour evening seminar provides experienced hikers or b
 ackpackers information to help them become an effective hike or backpack l
 eader for the Mountaineers. This seminar is a pre-requisite (along with a 
 mentor hike/backpack and committee approval) to becoming an official hike 
 or backpack leader for the club\, and prospective leaders from any branch 
 can get credit for this seminar toward their leader certification.
LOCATION:Mercer Island Public Library
URL:https://www.mountaineers.org/locations-lodges/foothills-branch/committ
 ees/foothills-hiking-backpacking/foothills-hiking-committee/seminars-clini
 cs/new-hike-backpack-leader-seminar-eastside-mercer-island-public-library
END:VEVENT
END:VCALENDAR
