BEGIN:VCALENDAR
VERSION:2.0
PRODID:-//Plone.org//NONSGML plone.app.event//EN
X-WR-TIMEZONE:US/Pacific
BEGIN:VEVENT
SUMMARY:September Hikes: 4 to 8 miles\, 750 to 2\,000 feet gain - Wallace 
 Falls Loop
DTSTART;VALUE=DATE:20260911
DTEND;VALUE=DATE:20260912
DTSTAMP;VALUE=DATE-TIME:20260420T221524Z
UID:379e4726ca1e43a3b4184647b80f82bd
CATEGORIES:Day Hiking
DESCRIPTION:This hike counts toward your monthly required GoHike course Se
 ptember trips.
LOCATION:Wallace Falls Loop
URL:https://www.mountaineers.org/locations-lodges/foothills-branch/committ
 ees/foothills-hiking-backpacking/foothills-hiking-committee/course-templat
 es/gohike-beginner-hiking-series-foothills/activities/september-hikes-4-to
 -8-miles-750-to-2-000-feet-gain-wallace-falls-loop-3
END:VEVENT
END:VCALENDAR
