BEGIN:VCALENDAR
VERSION:2.0
PRODID:-//Plone.org//NONSGML plone.app.event//EN
X-WR-TIMEZONE:US/Pacific
BEGIN:VEVENT
SUMMARY:September Hikes: 4 to 8 miles\, 750 to 2\,000 feet gain - Far Coun
 try Falls
DTSTART;VALUE=DATE:20260913
DTEND;VALUE=DATE:20260914
DTSTAMP;VALUE=DATE-TIME:20260420T221530Z
UID:93c3efbd69b3439fb41b568b658ee527
CATEGORIES:Day Hiking
DESCRIPTION:Date may flex to Sept 5th - please stay tuned! We'll visit Coa
 l Creek Falls\, Far Country Falls\, Far Country Lookout and circle back to
  Sky Country Trailhead. The elevation gain is spread over a few areas and 
 will provide a nice workout\, we'll slow the pace as needed. This hike cou
 nts toward your monthly required GoHike course September trips.
LOCATION:Far Country Falls
URL:https://www.mountaineers.org/locations-lodges/foothills-branch/committ
 ees/foothills-hiking-backpacking/foothills-hiking-committee/course-templat
 es/gohike-beginner-hiking-series-foothills/activities/september-hikes-4-to
 -8-miles-750-to-2-000-feet-gain-far-country-falls
END:VEVENT
END:VCALENDAR
