BEGIN:VCALENDAR
VERSION:2.0
PRODID:-//Plone.org//NONSGML plone.app.event//EN
X-WR-TIMEZONE:US/Pacific
BEGIN:VEVENT
SUMMARY:May Hikes: 3 to 5.5 miles\, 300 to 1\,250 feet gain - Whistle Lake
DTSTART;VALUE=DATE:20260502
DTEND;VALUE=DATE:20260503
DTSTAMP;VALUE=DATE-TIME:20260421T044319Z
UID:bebfba8cc9964c3eb738c0df760be7da
CATEGORIES:Day Hiking
DESCRIPTION:Hike is through the Anacortes community forest lands around Wh
 istle Lake. This is in the heart of Fidalgo Island. We will circle the lak
 e on a hiker only trail\, while enjoying the sights of wetlands. lake and 
 meadows. Spring will be showing blooming flowers and trees.  \n\nThis hik
 e counts toward your monthly required GoHike course May trips.
LOCATION:Whistle Lake
URL:https://www.mountaineers.org/locations-lodges/foothills-branch/committ
 ees/foothills-hiking-backpacking/foothills-hiking-committee/course-templat
 es/gohike-beginner-hiking-series-foothills/activities/may-hikes-3-to-5-5-m
 iles-300-to-1-250-feet-gain-whistle-lake
END:VEVENT
END:VCALENDAR
