BEGIN:VCALENDAR
VERSION:2.0
PRODID:-//Plone.org//NONSGML plone.app.event//EN
X-WR-TIMEZONE:US/Pacific
BEGIN:VEVENT
SUMMARY:May Hikes: 3 to 5.5 miles\, 300 to 1\,250 feet gain - Skookum Flat
 s
DTSTART;VALUE=DATE:20260526
DTEND;VALUE=DATE:20260527
DTSTAMP;VALUE=DATE-TIME:20260420T064638Z
UID:203d69890bb345a48d65fa5a5c7d428f
CATEGORIES:Day Hiking
DESCRIPTION:Enjoy an easy\, mossy river walk that leads to a short spur tr
 ail up to the base of Skookum Falls\, where you can see the lower portion 
 of the 350‑foot cascade.\nThis hike counts toward your monthly required 
 GoHike course May trips.
LOCATION:Skookum Flats
URL:https://www.mountaineers.org/locations-lodges/foothills-branch/committ
 ees/foothills-hiking-backpacking/foothills-hiking-committee/course-templat
 es/gohike-beginner-hiking-series-foothills/activities/may-hikes-3-to-5-5-m
 iles-300-to-1-250-feet-gain-skookum-flats
END:VEVENT
END:VCALENDAR
