BEGIN:VCALENDAR
VERSION:2.0
PRODID:-//Plone.org//NONSGML plone.app.event//EN
X-WR-TIMEZONE:US/Pacific
BEGIN:VEVENT
SUMMARY:May Hikes: 3 to 5.5 miles\, 300 to 1\,250 feet gain - Rattlesnake 
 Ledge
DTSTART;VALUE=DATE:20260501
DTEND;VALUE=DATE:20260502
DTSTAMP;VALUE=DATE-TIME:20260420T064633Z
UID:a9d7435887f04d30a1261a243676e236
CATEGORIES:Day Hiking
DESCRIPTION:Hike to Rattlesnake Ledge (Lower Ledge) on a steady uphill for
 ested trail through enormous mossy boulders\, delivering lovely views of t
 he Cedar River watershed\, Mount Si\, Mount Washington\, and Rattlesnake L
 ake.  We will walk a total of 4.5 miles (.25 mi from the parking lot to th
 e trailhead) and gain 1\,160 feet in elevation.
LOCATION:Rattlesnake Ledge
URL:https://www.mountaineers.org/locations-lodges/foothills-branch/committ
 ees/foothills-hiking-backpacking/foothills-hiking-committee/course-templat
 es/gohike-beginner-hiking-series-foothills/activities/may-hikes-3-to-5-5-m
 iles-300-to-1-250-feet-gain-rattlesnake-ledge-1
END:VEVENT
END:VCALENDAR
