BEGIN:VCALENDAR
VERSION:2.0
PRODID:-//Plone.org//NONSGML plone.app.event//EN
X-WR-TIMEZONE:US/Pacific
BEGIN:VEVENT
SUMMARY:May Hikes: 3 to 5.5 miles\, 300 to 1\,250 feet gain - Ginkgo Petri
 fied Forest
DTSTART;VALUE=DATE:20260502
DTEND;VALUE=DATE:20260503
DTSTAMP;VALUE=DATE-TIME:20260423T040702Z
UID:398fb9d6c8304151b261184b5fc02dc0
CATEGORIES:Day Hiking
DESCRIPTION:This unique hike is a bit of a drive\, but you'll be rewarded 
 with the final blooms of some wildflowers\, interesting geology\, and pote
 ntial wildlife sightings (big horn sheep!). This hike counts toward your m
 onthly required GoHike course May trips.
LOCATION:Ginkgo Petrified Forest
URL:https://www.mountaineers.org/locations-lodges/foothills-branch/committ
 ees/foothills-hiking-backpacking/foothills-hiking-committee/course-templat
 es/gohike-beginner-hiking-series-foothills/activities/may-hikes-3-to-5-5-m
 iles-300-to-1-250-feet-gain-ginkgo-petrified-forest
END:VEVENT
END:VCALENDAR
