BEGIN:VCALENDAR
VERSION:2.0
PRODID:-//Plone.org//NONSGML plone.app.event//EN
X-WR-TIMEZONE:US/Pacific
BEGIN:VEVENT
SUMMARY:May Hikes: 3 to 5.5 miles\, 300 to 1\,250 feet gain - Far Country 
 Falls
DTSTART;VALUE=DATE:20260514
DTEND;VALUE=DATE:20260515
DTSTAMP;VALUE=DATE-TIME:20260420T221530Z
UID:4282c6de7eb348c9971a669a37d0d48f
CATEGORIES:Day Hiking
DESCRIPTION:Hike from the former Red Town through woods where coal mining 
 was king to the lovely Far County Falls and return.\nThis hike counts towa
 rd your monthly required GoHike course May trips.
LOCATION:Far Country Falls
URL:https://www.mountaineers.org/locations-lodges/foothills-branch/committ
 ees/foothills-hiking-backpacking/foothills-hiking-committee/course-templat
 es/gohike-beginner-hiking-series-foothills/activities/may-hikes-3-to-5-5-m
 iles-300-to-1-250-feet-gain-far-country-falls-3
END:VEVENT
END:VCALENDAR
