BEGIN:VCALENDAR
VERSION:2.0
PRODID:-//Plone.org//NONSGML plone.app.event//EN
X-WR-TIMEZONE:US/Pacific
BEGIN:VEVENT
SUMMARY:May GoHike Urban Walk:   3 to 5.5 miles\, 300 to 1\,250 feet gain 
 - Seattle Olmsted 70: Section 8\, Loop
DTSTART;VALUE=DATE:20260531
DTEND;VALUE=DATE:20260601
DTSTAMP;VALUE=DATE-TIME:20260420T064634Z
UID:44251b68d4814c7fb3543e668a45e1c2
CATEGORIES:Urban Walking
DESCRIPTION:This urban walk counts toward your monthly required GoHike cou
 rse May trips.
LOCATION:Seattle Olmsted 70: Section 8\, Loop
URL:https://www.mountaineers.org/locations-lodges/foothills-branch/committ
 ees/foothills-hiking-backpacking/foothills-hiking-committee/course-templat
 es/gohike-beginner-hiking-series-foothills/activities/may-gohike-urban-wal
 k-3-to-5-5-miles-300-to-1-250-feet-gain-seattle-olmsted-70-section-8-loop
END:VEVENT
END:VCALENDAR
