BEGIN:VCALENDAR
VERSION:2.0
PRODID:-//Plone.org//NONSGML plone.app.event//EN
X-WR-TIMEZONE:US/Pacific
BEGIN:VEVENT
SUMMARY:March GoHike  Pacing Hike: 2 to 4 miles\, 0 to 750 feet of elevati
 on gain - Sequalitchew Canyon & Dupont Bluff
DTSTART;VALUE=DATE:20260314
DTEND;VALUE=DATE:20260315
DTSTAMP;VALUE=DATE-TIME:20260424T133319Z
UID:debd636a21fb4e23a48d9f498e34ec68
CATEGORIES:Day Hiking
DESCRIPTION:This gentle trail brings us down to a beach with views of Puge
 t Sound and the Olympic Mountains. GoHike Pace Hikes are low-stress hikes 
 to help you determine where you are in terms of gear\, the pace (1.5 - 2 m
 ph) and distance you can complete comfortably. These trips are designed to
  assist you in developing your goals for conditioning and hiking trips\, s
 o that you can determine what level of hikes and pace would be the best fi
 t for you to sign up for - no pressure\, no judgment!
LOCATION:Sequalitchew Canyon & Dupont Bluff
URL:https://www.mountaineers.org/locations-lodges/foothills-branch/committ
 ees/foothills-hiking-backpacking/foothills-hiking-committee/course-templat
 es/gohike-beginner-hiking-series-foothills/activities/march-gohike-pacing-
 hike-2-to-4-miles-0-to-750-feet-of-elevation-gain-sequalitchew-canyon-dupo
 nt-bluff
END:VEVENT
END:VCALENDAR
